BEGIN:VCALENDAR
VERSION:2.0
PRODID:-//Krishna&#039;s Otway Retreat - ECPv6.15.20//NONSGML v1.0//EN
CALSCALE:GREGORIAN
METHOD:PUBLISH
X-ORIGINAL-URL:https://www.krishnasotwayretreat.com.au
X-WR-CALDESC:Events for Krishna&#039;s Otway Retreat
REFRESH-INTERVAL;VALUE=DURATION:PT1H
X-Robots-Tag:noindex
X-PUBLISHED-TTL:PT1H
BEGIN:VTIMEZONE
TZID:UTC
BEGIN:STANDARD
TZOFFSETFROM:+0000
TZOFFSETTO:+0000
TZNAME:UTC
DTSTART:20250101T000000
END:STANDARD
END:VTIMEZONE
BEGIN:VEVENT
DTSTART;TZID=UTC:20260109T173000
DTEND;TZID=UTC:20260111T150000
DTSTAMP:20260421T122712
CREATED:20250823T013135Z
LAST-MODIFIED:20250924T231545Z
UID:10000653-1767979800-1768143600@www.krishnasotwayretreat.com.au
SUMMARY:New Year Resolution: Bhakti Yoga Retreat 2026
DESCRIPTION:🧘‍♀️ New Year’s Resolution: Bhakti Yoga Retreat\n9 – 11 January 2026 | Otway Ranges\, Victoria \nStart your year with peace\, purpose\, and positivity at the Bhakti Yoga Retreat. Nestled in the tranquil foothills of the Otway Ranges\, this retreat is designed for those who want to align body\, mind\, and heart with a fresh and uplifting experience. \n\n🌿 Why Join?\n\n\nDaily Yoga & Meditation: Nourish your body and calm your mind. \n\n\nBhakti Practices: Immerse yourself in uplifting kirtan and spiritual wisdom. \n\n\nNature Retreat: Reconnect with yourself in a peaceful\, natural setting. \n\n\nWholesome Meals: Enjoy delicious vegetarian/vegan meals. \n\n\nCommunity Spirit: Meet like-minded seekers on the path of self-discovery. \n\n\nThis is your chance to reset\, recharge\, and set the tone for a meaningful year ahead. \n\n📅 Event Details\n\n\nWhen:Begins 7:00 PM Friday\, 9 January 2026Concludes 3:00 PM Sunday\, 11 January 2026 \n\n\nWhere:Krishna’s Otway Retreat1265 Winchelsea–Deans Marsh Rd\, Bambra VIC 3241 \n\n\nCost: \n\n\n$495 per person \n\n\n$445 concession(Includes accommodation and all meals) \n\n\n\n\nAccommodation:Cozy facilities included\, surrounded by the serenity of nature. \n\n\n\n📞 Contact & Registration\n\n\nCall: 0405 577 453 \n\n\nEmail: kesava@iskcon.net.au \n\n\nVisit: www.krishnasotwayretreat.com.au \n\n\n\n🌺 Step into 2026 with clarity\, joy\, and devotion. Join us for this unforgettable Bhakti Yoga Retreat and lift your spirit in the beauty of the Otway Ranges.
URL:https://www.krishnasotwayretreat.com.au/event/new-year-resolution-bhakti-yoga-retreat-2026/
LOCATION:Hare Krishna Valley\, 1265\, Winchelsea – Deans Marsh Road\,\, Bambra\, Victoria\, Australia
CATEGORIES:Retreats
ATTACH;FMTTYPE=image/jpeg:https://www.krishnasotwayretreat.com.au/wp-content/uploads/2025/08/New-year-resolution-retreat-Recovered-2026.jpg
ORGANIZER;CN="Keshava dasa":MAILTO:admin@harekrishnavalley.com.au
END:VEVENT
END:VCALENDAR