BEGIN:VCALENDAR
VERSION:2.0
PRODID:-//Krishna&#039;s Otway Retreat - ECPv6.15.20//NONSGML v1.0//EN
CALSCALE:GREGORIAN
METHOD:PUBLISH
X-ORIGINAL-URL:https://www.krishnasotwayretreat.com.au
X-WR-CALDESC:Events for Krishna&#039;s Otway Retreat
REFRESH-INTERVAL;VALUE=DURATION:PT1H
X-Robots-Tag:noindex
X-PUBLISHED-TTL:PT1H
BEGIN:VTIMEZONE
TZID:UTC
BEGIN:STANDARD
TZOFFSETFROM:+0000
TZOFFSETTO:+0000
TZNAME:UTC
DTSTART:20230101T000000
END:STANDARD
END:VTIMEZONE
BEGIN:VEVENT
DTSTART;TZID=UTC:20241004T180000
DTEND;TZID=UTC:20241006T150000
DTSTAMP:20260423T110514
CREATED:20240107T022152Z
LAST-MODIFIED:20240111T102805Z
UID:10000582-1728064800-1728226800@www.krishnasotwayretreat.com.au
SUMMARY:Step into Spring - Vegetarian Cooking and Yoga Retreat
DESCRIPTION:  \n  \n🌿🍽️ **Indulge in a Culinary Escape – Step into spring Vegetarian Cooking and Yoga Retreat! 🧘‍♀️🍲** \n📅 **Dates:** 7 pm Friday\, 4th to 3 pm Sunday\, 6th October 2024 \n🌟 **Experience a Weekend of Relaxation and Wellness:**\nJoin us for a rejuvenating Vegetarian Cooking and Yoga Retreat set against the serene backdrop of the Otway Ranges. \n🌱 **Highlights:**\n– **Relaxed Classes:** Enhance your vegan/vegetarian cooking skills with Nitai\, our expert vegan chef\, in enjoyable and informative sessions.\n– **Yoga for Wellbeing:** Reap the benefits of yoga with master instructor Ari Engelman\, promoting physical and mental health.\n– **Delicious Food:** Learn to cook mouthwatering vegetarian/vegan dishes using locally sourced\, seasonal vegetables. \n💆‍♀️ **What’s Included:**\n– Hands-on cooking classes\n– Insights into the nutritional properties of herbs and spices\n– Morning and afternoon yoga sessions\n– Two delectable banquets prepared by you\n– All meals from Friday dinner to Sunday lunch\n– Discussions on nutrition\, ayurveda\, food\, and yoga\n– Introduction to bhakti yoga and kirtan\n– Recipe ideas and notes\n– 2 nights cozy accommodation in twin-share rooms\n– A tour of our organic garden and eco-house\n– Time for a peaceful stroll in the surrounding State forest \n💸 **Pricing:**\n– $495 per person\n– Concession: $445 per person\n– **Special Offer:** Bring a friend\, and both of you receive a $50 discount! \n📞 **Contact Keshava for More Information or to Register:**\n– 📱 0405 577 453\n– ✉️ keshava@iskcon.net.au \n🌈 **Join us for a Weekend of Culinary Delights and Serenity! 🍃✨**
URL:https://www.krishnasotwayretreat.com.au/event/step-into-spring-vegetarian-cooking-and-yoga-retreat-3/
LOCATION:Hare Krishna Valley\, 1265\, Winchelsea – Deans Marsh Road\,\, Bambra\, Victoria\, Australia
CATEGORIES:Community,Food,Retreats
ATTACH;FMTTYPE=image/jpeg:https://www.krishnasotwayretreat.com.au/wp-content/uploads/2024/01/cooking-retreat-2024-spring.jpg
ORGANIZER;CN="Keshava dasa":MAILTO:admin@harekrishnavalley.com.au
END:VEVENT
END:VCALENDAR